BEGIN:VCALENDAR
METHOD:PUBLISH
PRODID:-//Weblication CMS
VERSION:2.0
BEGIN:VEVENT
SUMMARY:Neue Wege bei Arthrose
DTSTART:20111108T200000
DTEND:19700101T010000
DESCRIPTION:Dr. Wolfgang Feil ist einer der führenden Vitalstoff-Experten Deutschlands. Die Expertin Heike-Solweig Bleuel von der Forschungsgruppe Dr. Feil zeigt im Vortrag neue Wege auf, wie sich der Knorpel durch eine gezielte Ernährung und Nährstoffversorgung wieder stabilisieren kann. Außerdem ergänzt sie ihren Vortrag mit Rezepten und Tipps, welche Kräuter und Gewürze Schmerzen senken. Eintritt: 7,-- Euro an der Abendkasse
LOCATION:
UID:https://www.muehlacker-kultur.de/kultur/veranstaltungen/archiv/2011/1428_Neue-Wege-bei-Arthrose.php
URL:https://www.muehlacker-kultur.de/kultur/veranstaltungen/archiv/2011/1428_Neue-Wege-bei-Arthrose.php
END:VEVENT
END:VCALENDAR