BEGIN:VCALENDAR
METHOD:PUBLISH
PRODID:-//Weblication CMS
VERSION:2.0
BEGIN:VEVENT
SUMMARY:Ausbildungsdienst(MH)
DTSTART:20110628T220000
DTEND:19700101T010000
DESCRIPTION:Atemschutz
LOCATION:
UID:https://www.muehlacker-kultur.de/kultur/veranstaltungen/archiv/2011/1127_Ausbildungsdienst-MH.php
URL:https://www.muehlacker-kultur.de/kultur/veranstaltungen/archiv/2011/1127_Ausbildungsdienst-MH.php
END:VEVENT
END:VCALENDAR