BEGIN:VCALENDAR
METHOD:PUBLISH
PRODID:-//Weblication CMS
VERSION:2.0
BEGIN:VEVENT
SUMMARY:Bluesfrühling: The Ulli Kron Trio
DTSTART:20100416T220000
DTEND:19700101T010000
DESCRIPTION:Im Trio glänzt Ulli Kron besonders durch Vielseitigkeit. Gemeinsam sind die drei Musiker im Blues genauso zuhause wie im Swing. Obwohl ihre Finger über Saiten und Tasten rasen, strahlen sie eine Ruhe aus und machen in ihren Soloparts unmissverständlich klar: Hier sind drei Meister ihrer Instrumente am Werk.
LOCATION:
UID:https://www.muehlacker-kultur.de/kultur/veranstaltungen/archiv/2010/1184_Bluesfruehling-The-Ulli-Kron-Trio.php
URL:https://www.muehlacker-kultur.de/kultur/veranstaltungen/archiv/2010/1184_Bluesfruehling-The-Ulli-Kron-Trio.php
END:VEVENT
END:VCALENDAR